BEGIN:VCALENDAR
VERSION:2.0
PRODID:-//Café Take Five - ECPv6.15.20//NONSGML v1.0//EN
CALSCALE:GREGORIAN
METHOD:PUBLISH
X-ORIGINAL-URL:https://cafetake5.nl
X-WR-CALDESC:Evenementen voor Café Take Five
REFRESH-INTERVAL;VALUE=DURATION:PT1H
X-Robots-Tag:noindex
X-PUBLISHED-TTL:PT1H
BEGIN:VTIMEZONE
TZID:Europe/Amsterdam
BEGIN:DAYLIGHT
TZOFFSETFROM:+0100
TZOFFSETTO:+0200
TZNAME:CEST
DTSTART:20250330T010000
END:DAYLIGHT
BEGIN:STANDARD
TZOFFSETFROM:+0200
TZOFFSETTO:+0100
TZNAME:CET
DTSTART:20251026T010000
END:STANDARD
BEGIN:DAYLIGHT
TZOFFSETFROM:+0100
TZOFFSETTO:+0200
TZNAME:CEST
DTSTART:20260329T010000
END:DAYLIGHT
BEGIN:STANDARD
TZOFFSETFROM:+0200
TZOFFSETTO:+0100
TZNAME:CET
DTSTART:20261025T010000
END:STANDARD
BEGIN:DAYLIGHT
TZOFFSETFROM:+0100
TZOFFSETTO:+0200
TZNAME:CEST
DTSTART:20270328T010000
END:DAYLIGHT
BEGIN:STANDARD
TZOFFSETFROM:+0200
TZOFFSETTO:+0100
TZNAME:CET
DTSTART:20271031T010000
END:STANDARD
END:VTIMEZONE
BEGIN:VEVENT
DTSTART;TZID=Europe/Amsterdam:20260410T210000
DTEND;TZID=Europe/Amsterdam:20260410T210000
DTSTAMP:20260422T143935
CREATED:20260307T055409Z
LAST-MODIFIED:20260311T071010Z
UID:1448-1775854800-1775854800@cafetake5.nl
SUMMARY:Thunderosa live
DESCRIPTION:Thunderosa is een Amerikaanse hard rock/southern rock band uit Austin\, Texas\, bekend om hun krachtige\, energieke sound die elementen van southern rock en heavy blues combineert\, think ZZ Top meets Motörhead!Deze mag je echt niet missen !!!!
URL:https://cafetake5.nl/event/thunderosa-live/
ATTACH;FMTTYPE=image/jpeg:https://cafetake5.nl/wp-content/uploads/2026/03/thunderosa.jpg
END:VEVENT
END:VCALENDAR