BEGIN:VCALENDAR
VERSION:2.0
PRODID:-//Café Take Five - ECPv6.15.20//NONSGML v1.0//EN
CALSCALE:GREGORIAN
METHOD:PUBLISH
X-WR-CALNAME:Café Take Five
X-ORIGINAL-URL:https://cafetake5.nl
X-WR-CALDESC:Evenementen voor Café Take Five
REFRESH-INTERVAL;VALUE=DURATION:PT1H
X-Robots-Tag:noindex
X-PUBLISHED-TTL:PT1H
BEGIN:VTIMEZONE
TZID:Europe/Amsterdam
BEGIN:DAYLIGHT
TZOFFSETFROM:+0100
TZOFFSETTO:+0200
TZNAME:CEST
DTSTART:20250330T010000
END:DAYLIGHT
BEGIN:STANDARD
TZOFFSETFROM:+0200
TZOFFSETTO:+0100
TZNAME:CET
DTSTART:20251026T010000
END:STANDARD
BEGIN:DAYLIGHT
TZOFFSETFROM:+0100
TZOFFSETTO:+0200
TZNAME:CEST
DTSTART:20260329T010000
END:DAYLIGHT
BEGIN:STANDARD
TZOFFSETFROM:+0200
TZOFFSETTO:+0100
TZNAME:CET
DTSTART:20261025T010000
END:STANDARD
BEGIN:DAYLIGHT
TZOFFSETFROM:+0100
TZOFFSETTO:+0200
TZNAME:CEST
DTSTART:20270328T010000
END:DAYLIGHT
BEGIN:STANDARD
TZOFFSETFROM:+0200
TZOFFSETTO:+0100
TZNAME:CET
DTSTART:20271031T010000
END:STANDARD
END:VTIMEZONE
BEGIN:VEVENT
DTSTART;TZID=Europe/Amsterdam:20260425T210000
DTEND;TZID=Europe/Amsterdam:20260425T210000
DTSTAMP:20260424T125615
CREATED:20260131T125451Z
LAST-MODIFIED:20260131T125451Z
UID:1409-1777150800-1777150800@cafetake5.nl
SUMMARY:MAYTREE RHYTHM & BLUESBAND
DESCRIPTION:De roots van MAYTREE RHYTHM & BLUES BAND liggen in de Zuid Limburgse Oostelijke Mijnstreek\, een ideale voedingsbodem voor de no-nonsense blues.\nHun muziek is nauw verbonden met het oude koempelgevoel – eenvoud\, hard labeur en saamhorigheid.\n\nMAYTREE RHYTHM & BLUES BAND onderscheidt zich door zijn aanstekelijke repertoire van country- en bluesstijlen\, met eigen composties en bekende covers.\n\nDe band bestaat uit zanger/multi-instrumentalist Frans Meijboom\, Jan Meijboom – elektrische/akoestische gitaar\, Karel Koster – zang/toetsen\, en de bas/ritmesectie Koos Koster en Herm klaassens
URL:https://cafetake5.nl/event/maytree-rhythm-bluesband/
ATTACH;FMTTYPE=image/jpeg:https://cafetake5.nl/wp-content/uploads/2026/01/Maytree.jpg
END:VEVENT
END:VCALENDAR