BEGIN:VCALENDAR
VERSION:2.0
PRODID:-//Café Take Five - ECPv6.15.20//NONSGML v1.0//EN
CALSCALE:GREGORIAN
METHOD:PUBLISH
X-ORIGINAL-URL:https://cafetake5.nl
X-WR-CALDESC:Evenementen voor Café Take Five
REFRESH-INTERVAL;VALUE=DURATION:PT1H
X-Robots-Tag:noindex
X-PUBLISHED-TTL:PT1H
BEGIN:VTIMEZONE
TZID:Europe/Amsterdam
BEGIN:DAYLIGHT
TZOFFSETFROM:+0100
TZOFFSETTO:+0200
TZNAME:CEST
DTSTART:20250330T010000
END:DAYLIGHT
BEGIN:STANDARD
TZOFFSETFROM:+0200
TZOFFSETTO:+0100
TZNAME:CET
DTSTART:20251026T010000
END:STANDARD
BEGIN:DAYLIGHT
TZOFFSETFROM:+0100
TZOFFSETTO:+0200
TZNAME:CEST
DTSTART:20260329T010000
END:DAYLIGHT
BEGIN:STANDARD
TZOFFSETFROM:+0200
TZOFFSETTO:+0100
TZNAME:CET
DTSTART:20261025T010000
END:STANDARD
BEGIN:DAYLIGHT
TZOFFSETFROM:+0100
TZOFFSETTO:+0200
TZNAME:CEST
DTSTART:20270328T010000
END:DAYLIGHT
BEGIN:STANDARD
TZOFFSETFROM:+0200
TZOFFSETTO:+0100
TZNAME:CET
DTSTART:20271031T010000
END:STANDARD
END:VTIMEZONE
BEGIN:VEVENT
DTSTART;TZID=Europe/Amsterdam:20260510T170000
DTEND;TZID=Europe/Amsterdam:20260510T170000
DTSTAMP:20260422T160428
CREATED:20260417T064418Z
LAST-MODIFIED:20260417T064418Z
UID:1473-1778432400-1778432400@cafetake5.nl
SUMMARY:Burkstone
DESCRIPTION:Eigen werk van Sef en Rob op elektrische bass en akoestische gitaar met 2-stemmige zang. Dat wordt genieten op de zondagmiddag.
URL:https://cafetake5.nl/event/burkstone/
ATTACH;FMTTYPE=image/jpeg:https://cafetake5.nl/wp-content/uploads/2026/04/burkstone.jpg
END:VEVENT
END:VCALENDAR