BEGIN:VCALENDAR
VERSION:2.0
PRODID:-//Café Take Five - ECPv6.15.20//NONSGML v1.0//EN
CALSCALE:GREGORIAN
METHOD:PUBLISH
X-WR-CALNAME:Café Take Five
X-ORIGINAL-URL:https://cafetake5.nl
X-WR-CALDESC:Evenementen voor Café Take Five
REFRESH-INTERVAL;VALUE=DURATION:PT1H
X-Robots-Tag:noindex
X-PUBLISHED-TTL:PT1H
BEGIN:VTIMEZONE
TZID:Europe/Amsterdam
BEGIN:DAYLIGHT
TZOFFSETFROM:+0100
TZOFFSETTO:+0200
TZNAME:CEST
DTSTART:20250330T010000
END:DAYLIGHT
BEGIN:STANDARD
TZOFFSETFROM:+0200
TZOFFSETTO:+0100
TZNAME:CET
DTSTART:20251026T010000
END:STANDARD
BEGIN:DAYLIGHT
TZOFFSETFROM:+0100
TZOFFSETTO:+0200
TZNAME:CEST
DTSTART:20260329T010000
END:DAYLIGHT
BEGIN:STANDARD
TZOFFSETFROM:+0200
TZOFFSETTO:+0100
TZNAME:CET
DTSTART:20261025T010000
END:STANDARD
BEGIN:DAYLIGHT
TZOFFSETFROM:+0100
TZOFFSETTO:+0200
TZNAME:CEST
DTSTART:20270328T010000
END:DAYLIGHT
BEGIN:STANDARD
TZOFFSETFROM:+0200
TZOFFSETTO:+0100
TZNAME:CET
DTSTART:20271031T010000
END:STANDARD
END:VTIMEZONE
BEGIN:VEVENT
DTSTART;TZID=Europe/Amsterdam:20260606T210000
DTEND;TZID=Europe/Amsterdam:20260606T210000
DTSTAMP:20260422T185521
CREATED:20260131T130655Z
LAST-MODIFIED:20260131T130655Z
UID:1412-1780779600-1780779600@cafetake5.nl
SUMMARY:Koster & Kaufmann
DESCRIPTION:De 60s en 70s muziek uit de vorige eeuw vormen een rode draad in het repertoire van Koster & Kauffman.Deze doorgewinterde muzikanten brengen op eigen wijze pop klassiekers ten gehore uit bijna vervlogen tijden. \nEen kleine greep uit het uitgebreide repertoire: \n\n\nNeil Young (Long may you run\, Heart of gold) \n\n\nThe Beatles (Eight days a week\, Please please me) \n\n\nEagles (Lying eyes\, Tequila sunrise) \n\n\nPaul Simon (Me and Julio down by the schoolyard\, Kodachrome) \n\n\nThe Hollies (Bus stop)\, Men at work (Down under) \n\n\nBezetting: \n\n\nKarel Koster – Akoestische gitaar en zang \n\n\nKoos Koster – Akoestische gitaar\, mandoline\, mondharmonica en zang \n\n\nWim Kauffman – Percussie en zang
URL:https://cafetake5.nl/event/koster-kaufmann/
ATTACH;FMTTYPE=image/jpeg:https://cafetake5.nl/wp-content/uploads/2026/01/koster-kaufmann.jpg
END:VEVENT
END:VCALENDAR