BEGIN:VCALENDAR
VERSION:2.0
PRODID:-//Café Take Five - ECPv6.15.20//NONSGML v1.0//EN
CALSCALE:GREGORIAN
METHOD:PUBLISH
X-WR-CALNAME:Café Take Five
X-ORIGINAL-URL:https://cafetake5.nl
X-WR-CALDESC:Evenementen voor Café Take Five
REFRESH-INTERVAL;VALUE=DURATION:PT1H
X-Robots-Tag:noindex
X-PUBLISHED-TTL:PT1H
BEGIN:VTIMEZONE
TZID:Europe/Amsterdam
BEGIN:DAYLIGHT
TZOFFSETFROM:+0100
TZOFFSETTO:+0200
TZNAME:CEST
DTSTART:20240331T010000
END:DAYLIGHT
BEGIN:STANDARD
TZOFFSETFROM:+0200
TZOFFSETTO:+0100
TZNAME:CET
DTSTART:20241027T010000
END:STANDARD
BEGIN:DAYLIGHT
TZOFFSETFROM:+0100
TZOFFSETTO:+0200
TZNAME:CEST
DTSTART:20250330T010000
END:DAYLIGHT
BEGIN:STANDARD
TZOFFSETFROM:+0200
TZOFFSETTO:+0100
TZNAME:CET
DTSTART:20251026T010000
END:STANDARD
BEGIN:DAYLIGHT
TZOFFSETFROM:+0100
TZOFFSETTO:+0200
TZNAME:CEST
DTSTART:20260329T010000
END:DAYLIGHT
BEGIN:STANDARD
TZOFFSETFROM:+0200
TZOFFSETTO:+0100
TZNAME:CET
DTSTART:20261025T010000
END:STANDARD
BEGIN:DAYLIGHT
TZOFFSETFROM:+0100
TZOFFSETTO:+0200
TZNAME:CEST
DTSTART:20270328T010000
END:DAYLIGHT
BEGIN:STANDARD
TZOFFSETFROM:+0200
TZOFFSETTO:+0100
TZNAME:CET
DTSTART:20271031T010000
END:STANDARD
END:VTIMEZONE
BEGIN:VEVENT
DTSTART;TZID=Europe/Amsterdam:20260328T200000
DTEND;TZID=Europe/Amsterdam:20260328T200000
DTSTAMP:20260422T235558
CREATED:20260307T054934Z
LAST-MODIFIED:20260307T054934Z
UID:1444-1774728000-1774728000@cafetake5.nl
SUMMARY:Sing Along + Karaoke avond
DESCRIPTION:Op 28 maart organiseert Sidera Theaterproducties de SING ALONG!  De cast van Come from Away zal deze avond de leukste nummers zingen\, en jij mag meezingen!\n\nNa de Sing Along begint de karaoke-avond\, waar je jouw favoriete nummers op aanvraag kunt zingen! Het wordt een super toffe\, gezellige avond vol muziek\, plezier en meezingers. Dit wil je niet missen!\n\n Scoor snel je tickets via: https://www.sideratheaterproducties.nl/event-details/sing-along-sidera-theaterproducties-x-silenus-1
URL:https://cafetake5.nl/event/sing-along-karaoke-avond/
ATTACH;FMTTYPE=image/jpeg:https://cafetake5.nl/wp-content/uploads/2026/03/sing-along-karaoke.jpg
END:VEVENT
BEGIN:VEVENT
DTSTART;TZID=Europe/Amsterdam:20260327T210000
DTEND;TZID=Europe/Amsterdam:20260327T210000
DTSTAMP:20260422T235558
CREATED:20260121T144333Z
LAST-MODIFIED:20260131T130737Z
UID:1395-1774645200-1774645200@cafetake5.nl
SUMMARY:MYLK
DESCRIPTION:When you really feel the blues\, make sure you rock it! Met o.a. Dick Franssen — heerlijke blues!
URL:https://cafetake5.nl/event/mylk-2/
ATTACH;FMTTYPE=image/jpeg:https://cafetake5.nl/wp-content/uploads/2025/11/mylk-take-five.jpg
END:VEVENT
BEGIN:VEVENT
DTSTART;TZID=Europe/Amsterdam:20260317T190000
DTEND;TZID=Europe/Amsterdam:20260317T190000
DTSTAMP:20260422T235558
CREATED:20250620T050843Z
LAST-MODIFIED:20250620T050843Z
UID:1210-1773774000-1773774000@cafetake5.nl
SUMMARY:Partybus: VVV-Venlo - Jong Ajax
DESCRIPTION:Ga mee met de Partybus naar VVV-Venlo. Gezellig indrinken\, een speciaal VVV-menu eten voor een leuke prijs en met de Partybus al feestend naar de Koel. Zo hoort het bezoek aan een wedstrijd te zijn. Indien je vooraf komt indrinken\, kun je gratis mee! Vertrek: 19:00 uur.
URL:https://cafetake5.nl/event/partybus-vvv-venlo-jong-ajax/
ATTACH;FMTTYPE=image/jpeg:https://cafetake5.nl/wp-content/uploads/2025/03/T5_VVV-partybus.jpg
END:VEVENT
BEGIN:VEVENT
DTSTART;TZID=Europe/Amsterdam:20260315T080000
DTEND;TZID=Europe/Amsterdam:20260315T080000
DTSTAMP:20260422T235558
CREATED:20250320T114953Z
LAST-MODIFIED:20260207T135904Z
UID:802-1773561600-1773561600@cafetake5.nl
SUMMARY:Live Formule 1 GP China kijken
DESCRIPTION:Kom gezellig Formule 1 live kijken bij Take Five! Iedere race staat garant voor spektakel\, en dit jaar belooft het extra spannend te worden. Samen kijken maakt het leuker\, spannender en vooral gezelliger.
URL:https://cafetake5.nl/event/live-formule-1-gp-qatar-kijken/
ATTACH;FMTTYPE=image/jpeg:https://cafetake5.nl/wp-content/uploads/2025/03/F1-Take-Five.jpg
END:VEVENT
BEGIN:VEVENT
DTSTART;TZID=Europe/Amsterdam:20260308T050000
DTEND;TZID=Europe/Amsterdam:20260308T050000
DTSTAMP:20260422T235558
CREATED:20250320T115118Z
LAST-MODIFIED:20260207T135840Z
UID:804-1772946000-1772946000@cafetake5.nl
SUMMARY:Live Formule 1 GP Australië kijken
DESCRIPTION:Kom gezellig Formule 1 live kijken bij Take Five! Iedere race staat garant voor spektakel\, en dit jaar belooft het extra spannend te worden. Samen kijken maakt het leuker\, spannender en vooral gezelliger.
URL:https://cafetake5.nl/event/live-formule-1-gp-abu-dhabi-kijken/
ATTACH;FMTTYPE=image/jpeg:https://cafetake5.nl/wp-content/uploads/2025/03/F1-Take-Five.jpg
END:VEVENT
BEGIN:VEVENT
DTSTART;TZID=Europe/Amsterdam:20260306T190000
DTEND;TZID=Europe/Amsterdam:20260306T190000
DTSTAMP:20260422T235558
CREATED:20250620T050726Z
LAST-MODIFIED:20250620T050726Z
UID:1208-1772823600-1772823600@cafetake5.nl
SUMMARY:Partybus: VVV-Venlo - RKC Waalwijk
DESCRIPTION:Ga mee met de Partybus naar VVV-Venlo. Gezellig indrinken\, een speciaal VVV-menu eten voor een leuke prijs en met de Partybus al feestend naar de Koel. Zo hoort het bezoek aan een wedstrijd te zijn. Indien je vooraf komt indrinken\, kun je gratis mee! Vertrek: 19:00 uur.
URL:https://cafetake5.nl/event/partybus-vvv-venlo-rkc-waalwijk/
ATTACH;FMTTYPE=image/jpeg:https://cafetake5.nl/wp-content/uploads/2025/03/T5_VVV-partybus.jpg
END:VEVENT
BEGIN:VEVENT
DTSTART;TZID=Europe/Amsterdam:20260301T150000
DTEND;TZID=Europe/Amsterdam:20260301T150000
DTSTAMP:20260422T235558
CREATED:20260121T142224Z
LAST-MODIFIED:20260121T142224Z
UID:1375-1772377200-1772377200@cafetake5.nl
SUMMARY:Gerrit C
DESCRIPTION:Tophits vanaf de jaren ’60 tot nu\, gespeeld op gitaar en mondharmonica. Human jukebox: kies aan de hand van de lijst wat er gespeeld wordt.
URL:https://cafetake5.nl/event/gerrit-c/
ATTACH;FMTTYPE=image/jpeg:https://cafetake5.nl/wp-content/uploads/2026/01/Gerritc.png.jpg
END:VEVENT
BEGIN:VEVENT
DTSTART;TZID=Europe/Amsterdam:20260228T210000
DTEND;TZID=Europe/Amsterdam:20260228T210000
DTSTAMP:20260422T235558
CREATED:20251113T180222Z
LAST-MODIFIED:20251113T180222Z
UID:1301-1772312400-1772312400@cafetake5.nl
SUMMARY:Blue Vultures
DESCRIPTION:Sinds de oprichting in april 2018 weet de Bredase indierockband Blue Vultures zich met elk nieuw nummer opnieuw uit te vinden. Hun muziek laat invloeden horen van onder meer Nothing But Thieves\, Wunderhorse en Jimmy Eat World.\n\nDankzij hun frisse geluid en energieke liveshows speelde de band zich in 2020 in de kijker tijdens talententraject Breda’s Most Wanted\, wat leidde tot optredens in drukbezochte cafés en uitverkochte poppodia. Eén ding is zeker: deze band moet je gezien hebben!
URL:https://cafetake5.nl/event/blue-vultures/
ATTACH;FMTTYPE=image/jpeg:https://cafetake5.nl/wp-content/uploads/2025/11/blue-vultures-take-five.jpg
END:VEVENT
BEGIN:VEVENT
DTSTART;TZID=Europe/Amsterdam:20260220T190000
DTEND;TZID=Europe/Amsterdam:20260220T190000
DTSTAMP:20260422T235558
CREATED:20250620T050547Z
LAST-MODIFIED:20250620T050547Z
UID:1205-1771614000-1771614000@cafetake5.nl
SUMMARY:Partybus: VVV-Venlo - TOP Oss
DESCRIPTION:Ga mee met de Partybus naar VVV-Venlo. Gezellig indrinken\, een speciaal VVV-menu eten voor een leuke prijs en met de Partybus al feestend naar de Koel. Zo hoort het bezoek aan een wedstrijd te zijn. Indien je vooraf komt indrinken\, kun je gratis mee! Vertrek: 19:00 uur.
URL:https://cafetake5.nl/event/partybus-vvv-venlo-top-oss/
ATTACH;FMTTYPE=image/jpeg:https://cafetake5.nl/wp-content/uploads/2025/03/T5_VVV-partybus.jpg
END:VEVENT
BEGIN:VEVENT
DTSTART;TZID=Europe/Amsterdam:20260217T161100
DTEND;TZID=Europe/Amsterdam:20260217T161100
DTSTAMP:20260422T235558
CREATED:20260131T125046Z
LAST-MODIFIED:20260131T125046Z
UID:1407-1771344660-1771344660@cafetake5.nl
SUMMARY:SHOWTIET
DESCRIPTION:De jòngste\, noow al leukste fiësband van Noord-Limburg\, Showtiet\, 3 daag lank beej Take Five\, lekker Limburgse meziek\, Alaaf !!!!
URL:https://cafetake5.nl/event/showtiet-3/
ATTACH;FMTTYPE=image/jpeg:https://cafetake5.nl/wp-content/uploads/2026/01/Showtiet.jpg
END:VEVENT
BEGIN:VEVENT
DTSTART;TZID=Europe/Amsterdam:20260217T100000
DTEND;TZID=Europe/Amsterdam:20260217T130000
DTSTAMP:20260422T235558
CREATED:20260121T141711Z
LAST-MODIFIED:20260121T141809Z
UID:1371-1771322400-1771333200@cafetake5.nl
SUMMARY:Boerebroelofsontbijt
DESCRIPTION:Heerlijk uitgebreid en goed verzorgd ontbijt\, gezellig in de kroeg met zijn allen een goede bodem leggen voor de Boerebruiloft. Kosten € 16 (excl. administratiekosten)\nTickets via : www.ticketkantoor.nl/shop/boere-ontbijt
URL:https://cafetake5.nl/event/boerebroelofsontbijt/
ATTACH;FMTTYPE=image/jpeg:https://cafetake5.nl/wp-content/uploads/2026/01/Boerebroelof-2026-1.jpg
END:VEVENT
BEGIN:VEVENT
DTSTART;TZID=Europe/Amsterdam:20260216T201100
DTEND;TZID=Europe/Amsterdam:20260216T201100
DTSTAMP:20260422T235558
CREATED:20260131T124948Z
LAST-MODIFIED:20260131T124948Z
UID:1405-1771272660-1771272660@cafetake5.nl
SUMMARY:SHOWTIET
DESCRIPTION:De jòngste\, noow al leukste fiësband van Noord-Limburg\, Showtiet\, 3 daag lank beej Take Five\, lekker Limburgse meziek\, Alaaf !!!!
URL:https://cafetake5.nl/event/showtiet-2/
ATTACH;FMTTYPE=image/jpeg:https://cafetake5.nl/wp-content/uploads/2026/01/Showtiet.jpg
END:VEVENT
BEGIN:VEVENT
DTSTART;TZID=Europe/Amsterdam:20260215T161100
DTEND;TZID=Europe/Amsterdam:20260215T161100
DTSTAMP:20260422T235558
CREATED:20260131T124819Z
LAST-MODIFIED:20260131T124819Z
UID:1402-1771171860-1771171860@cafetake5.nl
SUMMARY:SHOWTIET
DESCRIPTION:De jòngste\, noow al leukste fiësband van Noord-Limburg\, Showtiet\, 3 daag lank beej Take Five\, lekker Limburgse meziek\, Alaaf !!!!
URL:https://cafetake5.nl/event/showtiet/
ATTACH;FMTTYPE=image/jpeg:https://cafetake5.nl/wp-content/uploads/2026/01/Showtiet.jpg
END:VEVENT
BEGIN:VEVENT
DTSTART;TZID=Europe/Amsterdam:20260207T161100
DTEND;TZID=Europe/Amsterdam:20260207T161100
DTSTAMP:20260422T235558
CREATED:20260121T144735Z
LAST-MODIFIED:20260121T154328Z
UID:1398-1770480660-1770480660@cafetake5.nl
SUMMARY:Sef Derckx en Jos Deenen
DESCRIPTION:De groeëtmeisters van Venlose plaetjes vanaaf Vinyl. Lekker alderwetse vastelaoves-meziek Kòm luustere\,kieke en mei sjoenkele mit dit kwante duo!
URL:https://cafetake5.nl/event/sef-derckx-en-jos-deenen/
ATTACH;FMTTYPE=image/jpeg:https://cafetake5.nl/wp-content/uploads/2026/01/SefJos.jpg
END:VEVENT
BEGIN:VEVENT
DTSTART;TZID=Europe/Amsterdam:20260207T153000
DTEND;TZID=Europe/Amsterdam:20260207T153000
DTSTAMP:20260422T235558
CREATED:20250620T050311Z
LAST-MODIFIED:20250620T050311Z
UID:1203-1770478200-1770478200@cafetake5.nl
SUMMARY:Partybus: VVV-Venlo - FC Eindhoven
DESCRIPTION:Ga mee met de Partybus naar VVV-Venlo. Gezellig indrinken\, een speciaal VVV-menu eten voor een leuke prijs en met de Partybus al feestend naar de Koel. Zo hoort het bezoek aan een wedstrijd te zijn. Indien je vooraf komt indrinken\, kun je gratis mee! Vertrek: 15:30 uur.
URL:https://cafetake5.nl/event/partybus-vvv-venlo-fc-eindhoven/
ATTACH;FMTTYPE=image/jpeg:https://cafetake5.nl/wp-content/uploads/2025/03/T5_VVV-partybus.jpg
END:VEVENT
BEGIN:VEVENT
DTSTART;TZID=Europe/Amsterdam:20260116T190000
DTEND;TZID=Europe/Amsterdam:20260116T190000
DTSTAMP:20260422T235558
CREATED:20250620T050110Z
LAST-MODIFIED:20250620T050110Z
UID:1201-1768590000-1768590000@cafetake5.nl
SUMMARY:Partybus: VVV-Venlo - Jong AZ
DESCRIPTION:Ga mee met de Partybus naar VVV-Venlo. Gezellig indrinken\, een speciaal VVV-menu eten voor een leuke prijs en met de Partybus al feestend naar de Koel. Zo hoort het bezoek aan een wedstrijd te zijn. Indien je vooraf komt indrinken\, kun je gratis mee! Vertrek: 19:00 uur.
URL:https://cafetake5.nl/event/partybus-vvv-venlo-jong-az/
ATTACH;FMTTYPE=image/jpeg:https://cafetake5.nl/wp-content/uploads/2025/03/T5_VVV-partybus.jpg
END:VEVENT
BEGIN:VEVENT
DTSTART;TZID=Europe/Amsterdam:20251226T210000
DTEND;TZID=Europe/Amsterdam:20251226T210000
DTSTAMP:20260422T235558
CREATED:20251113T180911Z
LAST-MODIFIED:20251113T180911Z
UID:1305-1766782800-1766782800@cafetake5.nl
SUMMARY:The Gonutz
DESCRIPTION:The Gonutz are Back on Track! Ze spelen energieke\, zelfgeschreven en goed gejatte vintage Rock ’n Blues. Rauw gepresenteerd\, met dubbele gitaar in de hoofdrol en een dampende ritmesectie als stevige basis. The Gonutz staan garant voor een swingende rockshow!
URL:https://cafetake5.nl/event/the-gonutz/
ATTACH;FMTTYPE=image/jpeg:https://cafetake5.nl/wp-content/uploads/2025/11/the-gonutz-take-five.jpg
END:VEVENT
BEGIN:VEVENT
DTSTART;TZID=Europe/Amsterdam:20251219T190000
DTEND;TZID=Europe/Amsterdam:20251219T190000
DTSTAMP:20260422T235558
CREATED:20250620T045948Z
LAST-MODIFIED:20250620T045948Z
UID:1199-1766170800-1766170800@cafetake5.nl
SUMMARY:Partybus: VVV-Venlo - FC Dordrecht
DESCRIPTION:Ga mee met de Partybus naar VVV-Venlo. Gezellig indrinken\, een speciaal VVV-menu eten voor een leuke prijs en met de Partybus al feestend naar de Koel. Zo hoort het bezoek aan een wedstrijd te zijn. Indien je vooraf komt indrinken\, kun je gratis mee! Vertrek: 19:00 uur.
URL:https://cafetake5.nl/event/partybus-vvv-venlo-fc-dordrecht/
ATTACH;FMTTYPE=image/jpeg:https://cafetake5.nl/wp-content/uploads/2025/03/T5_VVV-partybus.jpg
END:VEVENT
BEGIN:VEVENT
DTSTART;TZID=Europe/Amsterdam:20251214T163000
DTEND;TZID=Europe/Amsterdam:20251214T220000
DTSTAMP:20260422T235558
CREATED:20250318T145725Z
LAST-MODIFIED:20250409T122823Z
UID:608-1765729800-1765749600@cafetake5.nl
SUMMARY:Grote muziekquiz
DESCRIPTION:Onze bekende muziekquiz\, waarbij de winnaars van vorig jaar de eer hebben om de nieuwe quiz te organiseren. Dit keer nemen Marco en Eric die taak op zich en verrassen ze ons met de meest interessante vragen en uitdagende geluidsfragmenten uit de muziekgeschiedenis. \nDeelname is beperkt – een team mag uit maximaal vijf personen bestaan.\nKosten: € 10\,00 per team. De opbrengst wordt gebruikt om leuke prijzen beschikbaar te stellen! \nBestel hier je kaarten voor de grote muziekquiz!
URL:https://cafetake5.nl/event/grote-muziekquiz/
ATTACH;FMTTYPE=image/jpeg:https://cafetake5.nl/wp-content/uploads/2025/03/muziek-quiz.jpg
END:VEVENT
BEGIN:VEVENT
DTSTART;TZID=Europe/Amsterdam:20251210T200000
DTEND;TZID=Europe/Amsterdam:20251210T200000
DTSTAMP:20260422T235558
CREATED:20251207T155350Z
LAST-MODIFIED:20251207T155439Z
UID:1324-1765396800-1765396800@cafetake5.nl
SUMMARY:Album release party: Frans Pollux & Lex Uiting
DESCRIPTION:Frans Pollux & Lex Uiting presenteren een nieuw album: Live in Limburg\, gemaakt samen met het Metropole Orkest. De lp werd eerder dit jaar opgenomen tijdens de Limburgse theatertour. Het album bevat twaalf composities\, waaronder de grote hits. Op woensdag 10 december presenteren Frans & Lex het album in Take Five in Venlo. Tijdens deze avond laten ze het album horen\, vertellen erover en spelen ze een paar liedjes. Het album is deze avond natuurlijk ook te koop. Vanaf nu kun je de plaat ook alvast bestellen. \nFrans & Lex:“Supertrots dat we samen op één album staan met al die fantastische musici van het beste poporkest ter wereld – en dat ook nog eens met leedjes in ’t Venloos.” \nLive in Limburg  verschijnt als een luxe gatefold-lp met fraaie tourfoto’s. De plaat komt uitsluitend op vinyl uit en in een gelimiteerde oplage. De eerste 100 kopers krijgen er bovendien gratis de 7”-single Noeit Gaon Ik Weg bij. \nJe kunt de lp nu al bestellen via de webshop. Kies zelf wat je wilt: laten opsturen of op woensdag 10 december ophalen bij Take Five. Vanaf donderdag 11 december ligt het album ook bij platenzaak Sounds in Venlo.
URL:https://cafetake5.nl/event/album-release-party-frans-pollux-lex-uiting/
ATTACH;FMTTYPE=image/jpeg:https://cafetake5.nl/wp-content/uploads/2025/12/album-release-lex-frans-muziekcafe-take5.jpeg.jpg
END:VEVENT
BEGIN:VEVENT
DTSTART;TZID=Europe/Amsterdam:20251129T210000
DTEND;TZID=Europe/Amsterdam:20251129T210000
DTSTAMP:20260422T235558
CREATED:20251113T175427Z
LAST-MODIFIED:20251113T175427Z
UID:1297-1764450000-1764450000@cafetake5.nl
SUMMARY:MYLK
DESCRIPTION:Recensenten spreken van “een van de meest opvallende bands in de huidige Blues- en Southernrockscene”. Dat is te danken aan de volharding van de vier uit Limburg afkomstige bandleden\, die met hun eigen composities indruk weten te maken op het grote publiek. Mis deze band niet\, een absolute must voor liefhebbers van échte Blues en Southern Rock!
URL:https://cafetake5.nl/event/mylk/
ATTACH;FMTTYPE=image/jpeg:https://cafetake5.nl/wp-content/uploads/2025/11/mylk-take-five.jpg
END:VEVENT
BEGIN:VEVENT
DTSTART;TZID=Europe/Amsterdam:20251128T190000
DTEND;TZID=Europe/Amsterdam:20251128T190000
DTSTAMP:20260422T235558
CREATED:20250620T045811Z
LAST-MODIFIED:20250620T045811Z
UID:1196-1764356400-1764356400@cafetake5.nl
SUMMARY:Partybus: VVV-Venlo - ADO Den Haag
DESCRIPTION:Ga mee met de Partybus naar VVV-Venlo. Gezellig indrinken\, een speciaal VVV-menu eten voor een leuke prijs en met de Partybus al feestend naar de Koel. Zo hoort het bezoek aan een wedstrijd te zijn. Indien je vooraf komt indrinken\, kun je gratis mee! Vertrek: 19:00 uur.
URL:https://cafetake5.nl/event/partybus-vvv-venlo-ado-den-haag/
ATTACH;FMTTYPE=image/jpeg:https://cafetake5.nl/wp-content/uploads/2025/03/T5_VVV-partybus.jpg
END:VEVENT
BEGIN:VEVENT
DTSTART;TZID=Europe/Amsterdam:20251122T203000
DTEND;TZID=Europe/Amsterdam:20251122T203000
DTSTAMP:20260422T235558
CREATED:20250624T130542Z
LAST-MODIFIED:20250624T130624Z
UID:1223-1763843400-1763843400@cafetake5.nl
SUMMARY:The Shivers\, OASIS tribute band
DESCRIPTION:Ready for some rock ’n roll? The Shivers brengen een kneitervette tribute aan OASIS! Na het succes van hun unieke Beatles-project met een docu over hun inspirerende pelgrimstocht naar Liverpool en show in de legendarische Cavern Club\, keren ze terug naar hun muzikale roots in de 90’s. The Shivers nemen je mee terug naar de gloriedagen van Manchester. Met krakers als Wonderwall\, Live Forever en Don’t Look Back in Anger brengen ze een feest vol herkenning\, nostalgie en keiharde meezingers.
URL:https://cafetake5.nl/event/the-shivers-oasis-tribute-band/
ATTACH;FMTTYPE=image/jpeg:https://cafetake5.nl/wp-content/uploads/2025/06/T5_Shivers.jpg
END:VEVENT
BEGIN:VEVENT
DTSTART;TZID=Europe/Amsterdam:20251121T190000
DTEND;TZID=Europe/Amsterdam:20251121T190000
DTSTAMP:20260422T235558
CREATED:20250620T045533Z
LAST-MODIFIED:20250620T045533Z
UID:1194-1763751600-1763751600@cafetake5.nl
SUMMARY:Partybus: VVV-Venlo - Willem II
DESCRIPTION:Ga mee met de Partybus naar VVV-Venlo. Gezellig indrinken\, een speciaal VVV-menu eten voor een leuke prijs en met de Partybus al feestend naar de Koel. Zo hoort het bezoek aan een wedstrijd te zijn. Indien je vooraf komt indrinken\, kun je gratis mee! Vertrek: 19:00 uur.
URL:https://cafetake5.nl/event/partybus-vvv-venlo-willem-ii/
ATTACH;FMTTYPE=image/jpeg:https://cafetake5.nl/wp-content/uploads/2025/03/T5_VVV-partybus.jpg
END:VEVENT
BEGIN:VEVENT
DTSTART;TZID=Europe/Amsterdam:20251115T160000
DTEND;TZID=Europe/Amsterdam:20251116T000000
DTSTAMP:20260422T235558
CREATED:20251113T182303Z
LAST-MODIFIED:20251113T185410Z
UID:1309-1763222400-1763251200@cafetake5.nl
SUMMARY:Take Five viert 30 jaar!
DESCRIPTION:Kom dit jubileumweekend meevieren bij Take Five! Op zaterdag barst het feest los met de hele dag live-muziek\, en op zondag draaien de dj’s de klassiekers van vroeger\, alsof de tijd nooit heeft stilgestaan. Mis het niet en vier 30 jaar Take Five mee!
URL:https://cafetake5.nl/event/take-five-viert-30-jaar/
ATTACH;FMTTYPE=image/jpeg:https://cafetake5.nl/wp-content/uploads/2025/11/take-five-30-jaar-bestaan.jpg
END:VEVENT
BEGIN:VEVENT
DTSTART;TZID=Europe/Amsterdam:20251108T203000
DTEND;TZID=Europe/Amsterdam:20251108T203000
DTSTAMP:20260422T235558
CREATED:20250823T094854Z
LAST-MODIFIED:20250823T095634Z
UID:1265-1762633800-1762633800@cafetake5.nl
SUMMARY:The Monkeys Uncle
DESCRIPTION:The Monkeys Uncle is een band uit (voornamelijk) Brabant die de country sound van de jaren ’60 en ’70 tot leven brengt. Verwacht een mix van country\, Texas honky tonk en western swing\, met nummers in de stijl van grootheden als Faron Young\, Johnny Paycheck en George Jones. Dit wil je niet missen!
URL:https://cafetake5.nl/event/the-monkeys-uncle/
ATTACH;FMTTYPE=image/jpeg:https://cafetake5.nl/wp-content/uploads/2025/08/monkeys-uncle-take-five.jpg
END:VEVENT
BEGIN:VEVENT
DTSTART;TZID=Europe/Amsterdam:20251031T190000
DTEND;TZID=Europe/Amsterdam:20251031T190000
DTSTAMP:20260422T235558
CREATED:20250620T045411Z
LAST-MODIFIED:20250620T045411Z
UID:1191-1761937200-1761937200@cafetake5.nl
SUMMARY:Partybus: VVV-Venlo - Vitesse
DESCRIPTION:Ga mee met de Partybus naar VVV-Venlo. Gezellig indrinken\, een speciaal VVV-menu eten voor een leuke prijs en met de Partybus al feestend naar de Koel. Zo hoort het bezoek aan een wedstrijd te zijn. Indien je vooraf komt indrinken\, kun je gratis mee! Vertrek: 19:00 uur.
URL:https://cafetake5.nl/event/partybus-vvv-venlo-vitesse/
ATTACH;FMTTYPE=image/jpeg:https://cafetake5.nl/wp-content/uploads/2025/03/T5_VVV-partybus.jpg
END:VEVENT
BEGIN:VEVENT
DTSTART;TZID=Europe/Amsterdam:20251028T200000
DTEND;TZID=Europe/Amsterdam:20251028T200000
DTSTAMP:20260422T235558
CREATED:20251016T123940Z
LAST-MODIFIED:20251016T123940Z
UID:1285-1761681600-1761681600@cafetake5.nl
SUMMARY:Partybus: VVV-Venlo – sc Heerenveen
DESCRIPTION:Ga mee met de Partybus naar VVV-Venlo. Gezellig indrinken\, een speciaal VVV-menu eten voor een leuke prijs en met de Partybus al feestend naar de Koel. Zo hoort het bezoek aan een wedstrijd te zijn. Indien je vooraf komt indrinken\, kun je gratis mee! Vertrek: 20:00 uur.
URL:https://cafetake5.nl/event/partybus-vvv-venlo-sc-heerenveen/
ATTACH;FMTTYPE=image/jpeg:https://cafetake5.nl/wp-content/uploads/2025/03/T5_VVV-partybus.jpg
END:VEVENT
BEGIN:VEVENT
DTSTART;TZID=Europe/Amsterdam:20251021T190000
DTEND;TZID=Europe/Amsterdam:20251021T190000
DTSTAMP:20260422T235558
CREATED:20250620T045240Z
LAST-MODIFIED:20250620T045240Z
UID:1189-1761073200-1761073200@cafetake5.nl
SUMMARY:Partybus: VVV-Venlo - Jong FC Utrecht
DESCRIPTION:Ga mee met de Partybus naar VVV-Venlo. Gezellig indrinken\, een speciaal VVV-menu eten voor een leuke prijs en met de Partybus al feestend naar de Koel. Zo hoort het bezoek aan een wedstrijd te zijn. Indien je vooraf komt indrinken\, kun je gratis mee! Vertrek: 19:00 uur.
URL:https://cafetake5.nl/event/partybus-vvv-venlo-jong-fc-utrecht/
ATTACH;FMTTYPE=image/jpeg:https://cafetake5.nl/wp-content/uploads/2025/03/T5_VVV-partybus.jpg
END:VEVENT
BEGIN:VEVENT
DTSTART;TZID=Europe/Amsterdam:20251018T210000
DTEND;TZID=Europe/Amsterdam:20251018T210000
DTSTAMP:20260422T235558
CREATED:20251016T123620Z
LAST-MODIFIED:20251016T123620Z
UID:1281-1760821200-1760821200@cafetake5.nl
SUMMARY:Niels Bonten & Sam van Bergen
DESCRIPTION:Niels Bonten komt samen met Sam van Bergen zijn nieuwe album Good Old Days akoestisch uitvoeren\, een mix van rustige en uptempo countrymuziek met rockinvloeden.
URL:https://cafetake5.nl/event/niels-bonten-sam-van-bergen/
ATTACH;FMTTYPE=image/jpeg:https://cafetake5.nl/wp-content/uploads/2025/10/niels-bonten-take-five.jpg
END:VEVENT
END:VCALENDAR