BEGIN:VCALENDAR
VERSION:2.0
PRODID:-//Café Take Five - ECPv6.15.20//NONSGML v1.0//EN
CALSCALE:GREGORIAN
METHOD:PUBLISH
X-ORIGINAL-URL:https://cafetake5.nl
X-WR-CALDESC:Evenementen voor Café Take Five
REFRESH-INTERVAL;VALUE=DURATION:PT1H
X-Robots-Tag:noindex
X-PUBLISHED-TTL:PT1H
BEGIN:VTIMEZONE
TZID:Europe/Amsterdam
BEGIN:DAYLIGHT
TZOFFSETFROM:+0100
TZOFFSETTO:+0200
TZNAME:CEST
DTSTART:20250330T010000
END:DAYLIGHT
BEGIN:STANDARD
TZOFFSETFROM:+0200
TZOFFSETTO:+0100
TZNAME:CET
DTSTART:20251026T010000
END:STANDARD
BEGIN:DAYLIGHT
TZOFFSETFROM:+0100
TZOFFSETTO:+0200
TZNAME:CEST
DTSTART:20260329T010000
END:DAYLIGHT
BEGIN:STANDARD
TZOFFSETFROM:+0200
TZOFFSETTO:+0100
TZNAME:CET
DTSTART:20261025T010000
END:STANDARD
BEGIN:DAYLIGHT
TZOFFSETFROM:+0100
TZOFFSETTO:+0200
TZNAME:CEST
DTSTART:20270328T010000
END:DAYLIGHT
BEGIN:STANDARD
TZOFFSETFROM:+0200
TZOFFSETTO:+0100
TZNAME:CET
DTSTART:20271031T010000
END:STANDARD
END:VTIMEZONE
BEGIN:VEVENT
DTSTART;TZID=Europe/Amsterdam:20260317T190000
DTEND;TZID=Europe/Amsterdam:20260317T190000
DTSTAMP:20260422T235520
CREATED:20250620T050843Z
LAST-MODIFIED:20250620T050843Z
UID:1210-1773774000-1773774000@cafetake5.nl
SUMMARY:Partybus: VVV-Venlo - Jong Ajax
DESCRIPTION:Ga mee met de Partybus naar VVV-Venlo. Gezellig indrinken\, een speciaal VVV-menu eten voor een leuke prijs en met de Partybus al feestend naar de Koel. Zo hoort het bezoek aan een wedstrijd te zijn. Indien je vooraf komt indrinken\, kun je gratis mee! Vertrek: 19:00 uur.
URL:https://cafetake5.nl/event/partybus-vvv-venlo-jong-ajax/
ATTACH;FMTTYPE=image/jpeg:https://cafetake5.nl/wp-content/uploads/2025/03/T5_VVV-partybus.jpg
END:VEVENT
BEGIN:VEVENT
DTSTART;TZID=Europe/Amsterdam:20260327T210000
DTEND;TZID=Europe/Amsterdam:20260327T210000
DTSTAMP:20260422T235520
CREATED:20260121T144333Z
LAST-MODIFIED:20260131T130737Z
UID:1395-1774645200-1774645200@cafetake5.nl
SUMMARY:MYLK
DESCRIPTION:When you really feel the blues\, make sure you rock it! Met o.a. Dick Franssen — heerlijke blues!
URL:https://cafetake5.nl/event/mylk-2/
ATTACH;FMTTYPE=image/jpeg:https://cafetake5.nl/wp-content/uploads/2025/11/mylk-take-five.jpg
END:VEVENT
BEGIN:VEVENT
DTSTART;TZID=Europe/Amsterdam:20260328T200000
DTEND;TZID=Europe/Amsterdam:20260328T200000
DTSTAMP:20260422T235520
CREATED:20260307T054934Z
LAST-MODIFIED:20260307T054934Z
UID:1444-1774728000-1774728000@cafetake5.nl
SUMMARY:Sing Along + Karaoke avond
DESCRIPTION:Op 28 maart organiseert Sidera Theaterproducties de SING ALONG!  De cast van Come from Away zal deze avond de leukste nummers zingen\, en jij mag meezingen!\n\nNa de Sing Along begint de karaoke-avond\, waar je jouw favoriete nummers op aanvraag kunt zingen! Het wordt een super toffe\, gezellige avond vol muziek\, plezier en meezingers. Dit wil je niet missen!\n\n Scoor snel je tickets via: https://www.sideratheaterproducties.nl/event-details/sing-along-sidera-theaterproducties-x-silenus-1
URL:https://cafetake5.nl/event/sing-along-karaoke-avond/
ATTACH;FMTTYPE=image/jpeg:https://cafetake5.nl/wp-content/uploads/2026/03/sing-along-karaoke.jpg
END:VEVENT
BEGIN:VEVENT
DTSTART;TZID=Europe/Amsterdam:20260329T070000
DTEND;TZID=Europe/Amsterdam:20260329T070000
DTSTAMP:20260422T235520
CREATED:20250320T114840Z
LAST-MODIFIED:20260207T140045Z
UID:800-1774767600-1774767600@cafetake5.nl
SUMMARY:Live Formule 1 GP Japan kijken
DESCRIPTION:Kom gezellig Formule 1 live kijken bij Take Five! Iedere race staat garant voor spektakel\, en dit jaar belooft het extra spannend te worden. Samen kijken maakt het leuker\, spannender en vooral gezelliger.
URL:https://cafetake5.nl/event/live-formule-1-gp-las-vegas-kijken/
ATTACH;FMTTYPE=image/jpeg:https://cafetake5.nl/wp-content/uploads/2025/03/F1-Take-Five.jpg
END:VEVENT
BEGIN:VEVENT
DTSTART;TZID=Europe/Amsterdam:20260403T190000
DTEND;TZID=Europe/Amsterdam:20260403T190000
DTSTAMP:20260422T235520
CREATED:20250620T050955Z
LAST-MODIFIED:20250620T050955Z
UID:1212-1775242800-1775242800@cafetake5.nl
SUMMARY:Partybus: VVV-Venlo - SC Cambuur
DESCRIPTION:Ga mee met de Partybus naar VVV-Venlo. Gezellig indrinken\, een speciaal VVV-menu eten voor een leuke prijs en met de Partybus al feestend naar de Koel. Zo hoort het bezoek aan een wedstrijd te zijn. Indien je vooraf komt indrinken\, kun je gratis mee! Vertrek: 19:00 uur.
URL:https://cafetake5.nl/event/partybus-vvv-venlo-sc-cambuur/
ATTACH;FMTTYPE=image/jpeg:https://cafetake5.nl/wp-content/uploads/2025/03/T5_VVV-partybus.jpg
END:VEVENT
BEGIN:VEVENT
DTSTART;TZID=Europe/Amsterdam:20260404T170000
DTEND;TZID=Europe/Amsterdam:20260404T170000
DTSTAMP:20260422T235520
CREATED:20260307T055837Z
LAST-MODIFIED:20260307T055837Z
UID:1452-1775322000-1775322000@cafetake5.nl
SUMMARY:Eierloop
DESCRIPTION:Op de zaterdag voor Pasen verandert onze prachtige stad in een bruisend feest vol gezelligheid\, muziek en lekkere drankjes. Met 19 kroegen die meedoen\, waaronder muziekcafé Take Five\, is de Eierloop dé manier om de cafés van Venlo te ontdekken. \nStart je middag bij een van de deelnemende kroegen\, verzamel je stempels en geniet samen met vrienden van een onvergetelijke dag vol sfeer en plezier. Mis het niet! \nMeer informatie vind je op de website van de eierloop.
URL:https://cafetake5.nl/event/eierloop-2/
ATTACH;FMTTYPE=image/jpeg:https://cafetake5.nl/wp-content/uploads/2026/03/eierloop.jpg
END:VEVENT
BEGIN:VEVENT
DTSTART;TZID=Europe/Amsterdam:20260410T210000
DTEND;TZID=Europe/Amsterdam:20260410T210000
DTSTAMP:20260422T235520
CREATED:20260307T055409Z
LAST-MODIFIED:20260311T071010Z
UID:1448-1775854800-1775854800@cafetake5.nl
SUMMARY:Thunderosa live
DESCRIPTION:Thunderosa is een Amerikaanse hard rock/southern rock band uit Austin\, Texas\, bekend om hun krachtige\, energieke sound die elementen van southern rock en heavy blues combineert\, think ZZ Top meets Motörhead!Deze mag je echt niet missen !!!!
URL:https://cafetake5.nl/event/thunderosa-live/
ATTACH;FMTTYPE=image/jpeg:https://cafetake5.nl/wp-content/uploads/2026/03/thunderosa.jpg
END:VEVENT
BEGIN:VEVENT
DTSTART;TZID=Europe/Amsterdam:20260411T153000
DTEND;TZID=Europe/Amsterdam:20260411T153000
DTSTAMP:20260422T235520
CREATED:20250620T051125Z
LAST-MODIFIED:20250620T051125Z
UID:1214-1775921400-1775921400@cafetake5.nl
SUMMARY:Partybus: VVV-Venlo - De Graafschap
DESCRIPTION:Ga mee met de Partybus naar VVV-Venlo. Gezellig indrinken\, een speciaal VVV-menu eten voor een leuke prijs en met de Partybus al feestend naar de Koel. Zo hoort het bezoek aan een wedstrijd te zijn. Indien je vooraf komt indrinken\, kun je gratis mee! Vertrek: 15:30 uur.
URL:https://cafetake5.nl/event/partybus-vvv-venlo-de-graafschap/
ATTACH;FMTTYPE=image/jpeg:https://cafetake5.nl/wp-content/uploads/2025/03/T5_VVV-partybus.jpg
END:VEVENT
BEGIN:VEVENT
DTSTART;TZID=Europe/Amsterdam:20260424T190000
DTEND;TZID=Europe/Amsterdam:20260424T190000
DTSTAMP:20260422T235520
CREATED:20250620T051243Z
LAST-MODIFIED:20250620T051243Z
UID:1217-1777057200-1777057200@cafetake5.nl
SUMMARY:Partybus: VVV-Venlo - Almere City FC
DESCRIPTION:Ga mee met de Partybus naar VVV-Venlo. Gezellig indrinken\, een speciaal VVV-menu eten voor een leuke prijs en met de Partybus al feestend naar de Koel. Zo hoort het bezoek aan een wedstrijd te zijn. Indien je vooraf komt indrinken\, kun je gratis mee! Vertrek: 19:00 uur.
URL:https://cafetake5.nl/event/partybus-vvv-venlo-almere-city-fc/
ATTACH;FMTTYPE=image/jpeg:https://cafetake5.nl/wp-content/uploads/2025/03/T5_VVV-partybus.jpg
END:VEVENT
BEGIN:VEVENT
DTSTART;TZID=Europe/Amsterdam:20260425T210000
DTEND;TZID=Europe/Amsterdam:20260425T210000
DTSTAMP:20260422T235520
CREATED:20260131T125451Z
LAST-MODIFIED:20260131T125451Z
UID:1409-1777150800-1777150800@cafetake5.nl
SUMMARY:MAYTREE RHYTHM & BLUESBAND
DESCRIPTION:De roots van MAYTREE RHYTHM & BLUES BAND liggen in de Zuid Limburgse Oostelijke Mijnstreek\, een ideale voedingsbodem voor de no-nonsense blues.\nHun muziek is nauw verbonden met het oude koempelgevoel – eenvoud\, hard labeur en saamhorigheid.\n\nMAYTREE RHYTHM & BLUES BAND onderscheidt zich door zijn aanstekelijke repertoire van country- en bluesstijlen\, met eigen composties en bekende covers.\n\nDe band bestaat uit zanger/multi-instrumentalist Frans Meijboom\, Jan Meijboom – elektrische/akoestische gitaar\, Karel Koster – zang/toetsen\, en de bas/ritmesectie Koos Koster en Herm klaassens
URL:https://cafetake5.nl/event/maytree-rhythm-bluesband/
ATTACH;FMTTYPE=image/jpeg:https://cafetake5.nl/wp-content/uploads/2026/01/Maytree.jpg
END:VEVENT
BEGIN:VEVENT
DTSTART;TZID=Europe/Amsterdam:20260426T163000
DTEND;TZID=Europe/Amsterdam:20260426T163000
DTSTAMP:20260422T235520
CREATED:20260311T072320Z
LAST-MODIFIED:20260311T072320Z
UID:1455-1777221000-1777221000@cafetake5.nl
SUMMARY:Surange & Joani
DESCRIPTION:Popklassiekers: heerlijke covers van twee upcoming musicians.
URL:https://cafetake5.nl/event/surange-joani/
ATTACH;FMTTYPE=image/jpeg:https://cafetake5.nl/wp-content/uploads/2026/03/T5_Surange-Joani.jpg
END:VEVENT
BEGIN:VEVENT
DTSTART;TZID=Europe/Amsterdam:20260427T170000
DTEND;TZID=Europe/Amsterdam:20260427T170000
DTSTAMP:20260422T235520
CREATED:20260121T143738Z
LAST-MODIFIED:20260121T143738Z
UID:1387-1777309200-1777309200@cafetake5.nl
SUMMARY:Beej de Roeje
DESCRIPTION:Traditioneel Koningsdagconcert van Beej de Roeje met John en Bert. Bekende covers\, Ierse folk\, Bob Dylan\, The Beatles\, The Rolling Stones\, etc. Een feest der herkenning!
URL:https://cafetake5.nl/event/beej-de-roeje-3/
ATTACH;FMTTYPE=image/jpeg:https://cafetake5.nl/wp-content/uploads/2026/01/beejderoeje.jpg
END:VEVENT
BEGIN:VEVENT
DTSTART;TZID=Europe/Amsterdam:20260502T213000
DTEND;TZID=Europe/Amsterdam:20260502T213000
DTSTAMP:20260422T235520
CREATED:20260121T143434Z
LAST-MODIFIED:20260121T143509Z
UID:1383-1777757400-1777757400@cafetake5.nl
SUMMARY:Jankity
DESCRIPTION:Lekkere semi-akoestische rockmuziek\, heerlijk om naar te luisteren.
URL:https://cafetake5.nl/event/jankity/
ATTACH;FMTTYPE=image/jpeg:https://cafetake5.nl/wp-content/uploads/2026/01/Jankity.jpg
END:VEVENT
BEGIN:VEVENT
DTSTART;TZID=Europe/Amsterdam:20260503T220000
DTEND;TZID=Europe/Amsterdam:20260503T220000
DTSTAMP:20260422T235520
CREATED:20250320T114418Z
LAST-MODIFIED:20260207T140401Z
UID:794-1777845600-1777845600@cafetake5.nl
SUMMARY:Live Formule 1 GP Miami kijken
DESCRIPTION:Kom gezellig Formule 1 live kijken bij Take Five! Iedere race staat garant voor spektakel\, en dit jaar belooft het extra spannend te worden. Samen kijken maakt het leuker\, spannender en vooral gezelliger.
URL:https://cafetake5.nl/event/live-formule-1-gp-verenigde-staten-kijken/
ATTACH;FMTTYPE=image/jpeg:https://cafetake5.nl/wp-content/uploads/2025/03/F1-Take-Five.jpg
END:VEVENT
BEGIN:VEVENT
DTSTART;TZID=Europe/Amsterdam:20260510T170000
DTEND;TZID=Europe/Amsterdam:20260510T170000
DTSTAMP:20260422T235520
CREATED:20260417T064418Z
LAST-MODIFIED:20260417T064418Z
UID:1473-1778432400-1778432400@cafetake5.nl
SUMMARY:Burkstone
DESCRIPTION:Eigen werk van Sef en Rob op elektrische bass en akoestische gitaar met 2-stemmige zang. Dat wordt genieten op de zondagmiddag.
URL:https://cafetake5.nl/event/burkstone/
ATTACH;FMTTYPE=image/jpeg:https://cafetake5.nl/wp-content/uploads/2026/04/burkstone.jpg
END:VEVENT
BEGIN:VEVENT
DTSTART;TZID=Europe/Amsterdam:20260517T170000
DTEND;TZID=Europe/Amsterdam:20260517T170000
DTSTAMP:20260422T235520
CREATED:20260417T065036Z
LAST-MODIFIED:20260417T065036Z
UID:1481-1779037200-1779037200@cafetake5.nl
SUMMARY:Mitch Menzo
DESCRIPTION:Mitch Menzo\, dat is een jonge pop-rock artiest die elke vorm van negatieve energie omzet in pure drive to success. “Up next” is geen vraag meer het is de volgende stap.\n \nZijn muziek is herkenbare en kwetsbare pop-rock: nummers over het leven\, de liefde en alles daartussen. \n \nZijn debuut album “bittersweet frictions” genomineerd voor beste album – pop in Limburg! En met zijn nummer “de Rembrandtstraat” is hij in de voorronde van Kunstbende 2026 als 2de geëindigd! Zijn solo show in de muziekgieterij wist hij binnen 24 uur op 16 jarige leeftijd uit te verkopen.
URL:https://cafetake5.nl/event/mitch-menzo/
ATTACH;FMTTYPE=image/jpeg:https://cafetake5.nl/wp-content/uploads/2026/04/mitch-menzo.jpg
END:VEVENT
BEGIN:VEVENT
DTSTART;TZID=Europe/Amsterdam:20260523T210000
DTEND;TZID=Europe/Amsterdam:20260523T210000
DTSTAMP:20260422T235520
CREATED:20260417T065210Z
LAST-MODIFIED:20260417T065210Z
UID:1485-1779570000-1779570000@cafetake5.nl
SUMMARY:Niels Bonten
DESCRIPTION:Eén mix van rustige en up- tempo countrymuziek met blues/ rock invloeden. Het onlangs uitgebrachte album wandering scoort hoge ogen en hun bij Take Five opgenomen video clip zal wellicht te zien zijn.
URL:https://cafetake5.nl/event/niels-bonten/
ATTACH;FMTTYPE=image/jpeg:https://cafetake5.nl/wp-content/uploads/2026/04/niels-bonten.jpg
END:VEVENT
BEGIN:VEVENT
DTSTART;TZID=Europe/Amsterdam:20260524T220000
DTEND;TZID=Europe/Amsterdam:20260524T220000
DTSTAMP:20260422T235520
CREATED:20250320T114235Z
LAST-MODIFIED:20260207T140459Z
UID:792-1779660000-1779660000@cafetake5.nl
SUMMARY:Live Formule 1 GP Canada kijken
DESCRIPTION:Kom gezellig Formule 1 live kijken bij Take Five! Iedere race staat garant voor spektakel\, en dit jaar belooft het extra spannend te worden. Samen kijken maakt het leuker\, spannender en vooral gezelliger.
URL:https://cafetake5.nl/event/live-formule-1-gp-singapore-kijken/
ATTACH;FMTTYPE=image/jpeg:https://cafetake5.nl/wp-content/uploads/2025/03/F1-Take-Five.jpg
END:VEVENT
BEGIN:VEVENT
DTSTART;TZID=Europe/Amsterdam:20260606T210000
DTEND;TZID=Europe/Amsterdam:20260606T210000
DTSTAMP:20260422T235520
CREATED:20260131T130655Z
LAST-MODIFIED:20260131T130655Z
UID:1412-1780779600-1780779600@cafetake5.nl
SUMMARY:Koster & Kaufmann
DESCRIPTION:De 60s en 70s muziek uit de vorige eeuw vormen een rode draad in het repertoire van Koster & Kauffman.Deze doorgewinterde muzikanten brengen op eigen wijze pop klassiekers ten gehore uit bijna vervlogen tijden. \nEen kleine greep uit het uitgebreide repertoire: \n\n\nNeil Young (Long may you run\, Heart of gold) \n\n\nThe Beatles (Eight days a week\, Please please me) \n\n\nEagles (Lying eyes\, Tequila sunrise) \n\n\nPaul Simon (Me and Julio down by the schoolyard\, Kodachrome) \n\n\nThe Hollies (Bus stop)\, Men at work (Down under) \n\n\nBezetting: \n\n\nKarel Koster – Akoestische gitaar en zang \n\n\nKoos Koster – Akoestische gitaar\, mandoline\, mondharmonica en zang \n\n\nWim Kauffman – Percussie en zang
URL:https://cafetake5.nl/event/koster-kaufmann/
ATTACH;FMTTYPE=image/jpeg:https://cafetake5.nl/wp-content/uploads/2026/01/koster-kaufmann.jpg
END:VEVENT
BEGIN:VEVENT
DTSTART;TZID=Europe/Amsterdam:20260607T150000
DTEND;TZID=Europe/Amsterdam:20260607T150000
DTSTAMP:20260422T235520
CREATED:20250320T114031Z
LAST-MODIFIED:20260207T140603Z
UID:790-1780844400-1780844400@cafetake5.nl
SUMMARY:Live Formule 1 GP Monaco kijken
DESCRIPTION:Kom gezellig Formule 1 live kijken bij Take Five! Iedere race staat garant voor spektakel\, en dit jaar belooft het extra spannend te worden. Samen kijken maakt het leuker\, spannender en vooral gezelliger.
URL:https://cafetake5.nl/event/live-formule-1-gp-azerbeidzjan-kijken/
ATTACH;FMTTYPE=image/jpeg:https://cafetake5.nl/wp-content/uploads/2025/03/F1-Take-Five.jpg
END:VEVENT
BEGIN:VEVENT
DTSTART;TZID=Europe/Amsterdam:20260607T170000
DTEND;TZID=Europe/Amsterdam:20260607T170000
DTSTAMP:20260422T235520
CREATED:20260326T165032Z
LAST-MODIFIED:20260417T064051Z
UID:1462-1780851600-1780851600@cafetake5.nl
SUMMARY:Frank Hendrix
DESCRIPTION:Frank Hendrix\, de Mark Knopfler uit Venray\, heerlijke akoestische gitaarmuziek\, Lekker achterover genieten van een lekker biertje of Whisky bij Take Five\, heerlijke avond uit.
URL:https://cafetake5.nl/event/frank-hendrix/
ATTACH;FMTTYPE=image/jpeg:https://cafetake5.nl/wp-content/uploads/2026/03/Frank-hendrix.jpg
END:VEVENT
BEGIN:VEVENT
DTSTART;TZID=Europe/Amsterdam:20260613T210000
DTEND;TZID=Europe/Amsterdam:20260613T210000
DTSTAMP:20260422T235520
CREATED:20260121T142612Z
LAST-MODIFIED:20260121T142612Z
UID:1379-1781384400-1781384400@cafetake5.nl
SUMMARY:Damnation
DESCRIPTION:Na hun ontzettend vette optreden vorig jaar zijn de mannen terug! Damnation live bij Take Five. Heerlijk genieten van het werk van AC/DC uit de Bon Scott-periode. Highway to Hell bij Take Five!
URL:https://cafetake5.nl/event/damnation-2/
ATTACH;FMTTYPE=image/jpeg:https://cafetake5.nl/wp-content/uploads/2025/05/Damnation.jpg
END:VEVENT
BEGIN:VEVENT
DTSTART;TZID=Europe/Amsterdam:20260614T150000
DTEND;TZID=Europe/Amsterdam:20260614T150000
DTSTAMP:20260422T235520
CREATED:20250320T113856Z
LAST-MODIFIED:20260207T140712Z
UID:788-1781449200-1781449200@cafetake5.nl
SUMMARY:Live Formule 1 GP Barcelona kijken
DESCRIPTION:Kom gezellig Formule 1 live kijken bij Take Five! Iedere race staat garant voor spektakel\, en dit jaar belooft het extra spannend te worden. Samen kijken maakt het leuker\, spannender en vooral gezelliger.
URL:https://cafetake5.nl/event/live-formule-1-gp-italie-kijken/
ATTACH;FMTTYPE=image/jpeg:https://cafetake5.nl/wp-content/uploads/2025/03/F1-Take-Five.jpg
END:VEVENT
BEGIN:VEVENT
DTSTART;TZID=Europe/Amsterdam:20260628T150000
DTEND;TZID=Europe/Amsterdam:20260628T150000
DTSTAMP:20260422T235520
CREATED:20250320T113743Z
LAST-MODIFIED:20260207T141028Z
UID:786-1782658800-1782658800@cafetake5.nl
SUMMARY:Live Formule 1 GP Oostenrijk kijken
DESCRIPTION:Kom gezellig Formule 1 live kijken bij Take Five! Iedere race staat garant voor spektakel\, en dit jaar belooft het extra spannend te worden. Samen kijken maakt het leuker\, spannender en vooral gezelliger.
URL:https://cafetake5.nl/event/live-formule-1-gp-nederland-kijken/
ATTACH;FMTTYPE=image/jpeg:https://cafetake5.nl/wp-content/uploads/2025/03/F1-Take-Five.jpg
END:VEVENT
BEGIN:VEVENT
DTSTART;TZID=Europe/Amsterdam:20260705T160000
DTEND;TZID=Europe/Amsterdam:20260705T160000
DTSTAMP:20260422T235520
CREATED:20250320T113601Z
LAST-MODIFIED:20260207T141144Z
UID:783-1783267200-1783267200@cafetake5.nl
SUMMARY:Live Formule 1 GP Groot-Brittannië kijken
DESCRIPTION:Kom gezellig Formule 1 live kijken bij Take Five! Iedere race staat garant voor spektakel\, en dit jaar belooft het extra spannend te worden. Samen kijken maakt het leuker\, spannender en vooral gezelliger.
URL:https://cafetake5.nl/event/live-formule-1-gp-hongarije-kijken/
ATTACH;FMTTYPE=image/jpeg:https://cafetake5.nl/wp-content/uploads/2025/03/F1-Take-Five.jpg
END:VEVENT
BEGIN:VEVENT
DTSTART;TZID=Europe/Amsterdam:20260719T150000
DTEND;TZID=Europe/Amsterdam:20260719T150000
DTSTAMP:20260422T235520
CREATED:20250320T113423Z
LAST-MODIFIED:20260207T141256Z
UID:780-1784473200-1784473200@cafetake5.nl
SUMMARY:Live Formule 1 GP België kijken
DESCRIPTION:Kom gezellig Formule 1 live kijken bij Take Five! Iedere race staat garant voor spektakel\, en dit jaar belooft het extra spannend te worden. Samen kijken maakt het leuker\, spannender en vooral gezelliger.
URL:https://cafetake5.nl/event/live-formule-1-gp-belgie-kijken/
ATTACH;FMTTYPE=image/jpeg:https://cafetake5.nl/wp-content/uploads/2025/03/F1-Take-Five.jpg
END:VEVENT
BEGIN:VEVENT
DTSTART;TZID=Europe/Amsterdam:20260726T150000
DTEND;TZID=Europe/Amsterdam:20260726T150000
DTSTAMP:20260422T235520
CREATED:20250320T113026Z
LAST-MODIFIED:20260207T141413Z
UID:778-1785078000-1785078000@cafetake5.nl
SUMMARY:Live Formule 1 GP Hongarije kijken
DESCRIPTION:Kom gezellig Formule 1 live kijken bij Take Five! Iedere race staat garant voor spektakel\, en dit jaar belooft het extra spannend te worden. Samen kijken maakt het leuker\, spannender en vooral gezelliger.
URL:https://cafetake5.nl/event/live-formule-1-gp-groot-brittannie-kijken/
ATTACH;FMTTYPE=image/jpeg:https://cafetake5.nl/wp-content/uploads/2025/03/F1-Take-Five.jpg
END:VEVENT
BEGIN:VEVENT
DTSTART;TZID=Europe/Amsterdam:20260823T150000
DTEND;TZID=Europe/Amsterdam:20260823T150000
DTSTAMP:20260422T235520
CREATED:20250320T112842Z
LAST-MODIFIED:20260207T141503Z
UID:776-1787497200-1787497200@cafetake5.nl
SUMMARY:Live Formule 1 GP Nederland kijken
DESCRIPTION:Kom gezellig Formule 1 live kijken bij Take Five! Iedere race staat garant voor spektakel\, en dit jaar belooft het extra spannend te worden. Samen kijken maakt het leuker\, spannender en vooral gezelliger.
URL:https://cafetake5.nl/event/live-formule-1-gp-oostenrijk-kijken/
ATTACH;FMTTYPE=image/jpeg:https://cafetake5.nl/wp-content/uploads/2025/03/F1-Take-Five.jpg
END:VEVENT
BEGIN:VEVENT
DTSTART;TZID=Europe/Amsterdam:20260829T210000
DTEND;TZID=Europe/Amsterdam:20260829T210000
DTSTAMP:20260422T235520
CREATED:20260326T165850Z
LAST-MODIFIED:20260326T165850Z
UID:1465-1788037200-1788037200@cafetake5.nl
SUMMARY:Captain J. Wright
DESCRIPTION:Captain J. Wright maakt een nostalgische\, avontuurlijke vorm van indiesoul\, met verhalende en dromerige teksten die doordrenkt zijn van de tijdsgeest van de jaren 60 en 70. Verwacht warme\, wollige sounds\, een dynamische ritmesectie en een speelse vleug psychedelica. \nOntstaan vanuit een gedeelde muzikale passie en hechte vriendschap\, gelooft de band in de kracht van de wisselwerking tussen beeld en geluid.
URL:https://cafetake5.nl/event/captain-j-wright/
ATTACH;FMTTYPE=image/jpeg:https://cafetake5.nl/wp-content/uploads/2026/03/captain-j-wright.jpg
END:VEVENT
BEGIN:VEVENT
DTSTART;TZID=Europe/Amsterdam:20260906T150000
DTEND;TZID=Europe/Amsterdam:20260906T150000
DTSTAMP:20260422T235520
CREATED:20250320T112715Z
LAST-MODIFIED:20260207T141617Z
UID:774-1788706800-1788706800@cafetake5.nl
SUMMARY:Live Formule 1 GP Italië kijken
DESCRIPTION:Kom gezellig Formule 1 live kijken bij Take Five! Iedere race staat garant voor spektakel\, en dit jaar belooft het extra spannend te worden. Samen kijken maakt het leuker\, spannender en vooral gezelliger.
URL:https://cafetake5.nl/event/live-formule-1-gp-canada-kijken/
ATTACH;FMTTYPE=image/jpeg:https://cafetake5.nl/wp-content/uploads/2025/03/F1-Take-Five.jpg
END:VEVENT
END:VCALENDAR