BEGIN:VCALENDAR
VERSION:2.0
PRODID:-//Café Take Five - ECPv6.15.20//NONSGML v1.0//EN
CALSCALE:GREGORIAN
METHOD:PUBLISH
X-ORIGINAL-URL:https://cafetake5.nl
X-WR-CALDESC:Evenementen voor Café Take Five
REFRESH-INTERVAL;VALUE=DURATION:PT1H
X-Robots-Tag:noindex
X-PUBLISHED-TTL:PT1H
BEGIN:VTIMEZONE
TZID:Europe/Amsterdam
BEGIN:DAYLIGHT
TZOFFSETFROM:+0100
TZOFFSETTO:+0200
TZNAME:CEST
DTSTART:20250330T010000
END:DAYLIGHT
BEGIN:STANDARD
TZOFFSETFROM:+0200
TZOFFSETTO:+0100
TZNAME:CET
DTSTART:20251026T010000
END:STANDARD
BEGIN:DAYLIGHT
TZOFFSETFROM:+0100
TZOFFSETTO:+0200
TZNAME:CEST
DTSTART:20260329T010000
END:DAYLIGHT
BEGIN:STANDARD
TZOFFSETFROM:+0200
TZOFFSETTO:+0100
TZNAME:CET
DTSTART:20261025T010000
END:STANDARD
BEGIN:DAYLIGHT
TZOFFSETFROM:+0100
TZOFFSETTO:+0200
TZNAME:CEST
DTSTART:20270328T010000
END:DAYLIGHT
BEGIN:STANDARD
TZOFFSETFROM:+0200
TZOFFSETTO:+0100
TZNAME:CET
DTSTART:20271031T010000
END:STANDARD
END:VTIMEZONE
BEGIN:VEVENT
DTSTART;TZID=Europe/Amsterdam:20260926T130000
DTEND;TZID=Europe/Amsterdam:20260926T130000
DTSTAMP:20260422T235842
CREATED:20250320T112427Z
LAST-MODIFIED:20260207T141844Z
UID:770-1790427600-1790427600@cafetake5.nl
SUMMARY:Live Formule 1 GP Azerbeidzjan kijken
DESCRIPTION:Kom gezellig Formule 1 live kijken bij Take Five! Iedere race staat garant voor spektakel\, en dit jaar belooft het extra spannend te worden. Samen kijken maakt het leuker\, spannender en vooral gezelliger.
URL:https://cafetake5.nl/event/live-formule-1-gp-monaco-kijken/
ATTACH;FMTTYPE=image/jpeg:https://cafetake5.nl/wp-content/uploads/2025/03/F1-Take-Five.jpg
END:VEVENT
BEGIN:VEVENT
DTSTART;TZID=Europe/Amsterdam:20260926T210000
DTEND;TZID=Europe/Amsterdam:20260926T210000
DTSTAMP:20260422T235842
CREATED:20260326T171420Z
LAST-MODIFIED:20260326T171420Z
UID:1468-1790456400-1790456400@cafetake5.nl
SUMMARY:The Dizzy Dudes - Rock’n’Roll Entertainment from Germany
DESCRIPTION:The Dizzy Dudes uit Duitsland zetten elk podium in vuur en vlam met dansbare ritmes\, opvallende riffs en een vette bas. Hun muziek is een mix van rock-’n-roll en country\, met eigen nummers én covers. Na 20 jaar live-ervaring en honderden optredens brengen ze in 2025 hun nieuwe album Old Dirt Road uit\, opgenomen in de legendarische Abbey Road Studios in Londen!
URL:https://cafetake5.nl/event/the-dizzy-dudes-rocknroll-entertainment-from-germany/
ATTACH;FMTTYPE=image/jpeg:https://cafetake5.nl/wp-content/uploads/2026/03/the-dizzy-dudes.jpg
END:VEVENT
BEGIN:VEVENT
DTSTART;TZID=Europe/Amsterdam:20261011T140000
DTEND;TZID=Europe/Amsterdam:20261011T140000
DTSTAMP:20260422T235842
CREATED:20250320T112133Z
LAST-MODIFIED:20260207T141944Z
UID:768-1791727200-1791727200@cafetake5.nl
SUMMARY:Live Formule 1 GP Singapore kijken
DESCRIPTION:Kom gezellig Formule 1 live kijken bij Take Five! Iedere race staat garant voor spektakel\, en dit jaar belooft het extra spannend te worden. Samen kijken maakt het leuker\, spannender en vooral gezelliger.
URL:https://cafetake5.nl/event/live-formule-1-gp-emilia-romagna-kijken/
ATTACH;FMTTYPE=image/jpeg:https://cafetake5.nl/wp-content/uploads/2025/03/F1-Take-Five.jpg
END:VEVENT
BEGIN:VEVENT
DTSTART;TZID=Europe/Amsterdam:20261017T210000
DTEND;TZID=Europe/Amsterdam:20261017T210000
DTSTAMP:20260422T235842
CREATED:20260326T164515Z
LAST-MODIFIED:20260326T164515Z
UID:1459-1792270800-1792270800@cafetake5.nl
SUMMARY:Lord Sabbath
DESCRIPTION:Ozzy Osbourne never dies\, zijn muziek zeker niet. Als een van de grondleggers van de metal-muziek zal hij voort blijven leven als inspiratiebron van vele bands en tributes. Take Five heeft deze toppers witten te strikken\, kom op metal-heads\, deze mag je niet missen.
URL:https://cafetake5.nl/event/lord-sabbath/
ATTACH;FMTTYPE=image/jpeg:https://cafetake5.nl/wp-content/uploads/2026/03/lord-sabbath.jpg
END:VEVENT
BEGIN:VEVENT
DTSTART;TZID=Europe/Amsterdam:20261025T210000
DTEND;TZID=Europe/Amsterdam:20261025T210000
DTSTAMP:20260422T235842
CREATED:20250320T111915Z
LAST-MODIFIED:20260207T142039Z
UID:765-1792962000-1792962000@cafetake5.nl
SUMMARY:Live Formule 1 GP Verenigde Staten kijken
DESCRIPTION:Kom zondags gezellig Formule 1 live kijken bij Take Five! Iedere race staat garant voor spektakel\, en dit jaar belooft het extra spannend te worden. Samen kijken maakt het leuker\, spannender en vooral gezelliger.
URL:https://cafetake5.nl/event/live-formule-1-gp-miami-kijken/
ATTACH;FMTTYPE=image/jpeg:https://cafetake5.nl/wp-content/uploads/2025/03/F1-Take-Five.jpg
END:VEVENT
BEGIN:VEVENT
DTSTART;TZID=Europe/Amsterdam:20261108T180000
DTEND;TZID=Europe/Amsterdam:20261108T180000
DTSTAMP:20260422T235842
CREATED:20250320T111523Z
LAST-MODIFIED:20260207T142410Z
UID:760-1794160800-1794160800@cafetake5.nl
SUMMARY:Live Formule 1 GP Brazilië kijken
DESCRIPTION:Kom zondags gezellig Formule 1 live kijken bij Take Five! Iedere race staat garant voor spektakel\, en dit jaar belooft het extra spannend te worden. Samen kijken maakt het leuker\, spannender en vooral gezelliger.
URL:https://cafetake5.nl/event/live-formule-1-gp-bahrein-kijken/
ATTACH;FMTTYPE=image/jpeg:https://cafetake5.nl/wp-content/uploads/2025/03/F1-Take-Five.jpg
END:VEVENT
BEGIN:VEVENT
DTSTART;TZID=Europe/Amsterdam:20261122T050000
DTEND;TZID=Europe/Amsterdam:20261122T050000
DTSTAMP:20260422T235842
CREATED:20250320T111138Z
LAST-MODIFIED:20260207T142519Z
UID:758-1795323600-1795323600@cafetake5.nl
SUMMARY:Live Formule 1 GP Las Vegas kijken
DESCRIPTION:Kom gezellig Formule 1 live kijken bij Take Five! Iedere race staat garant voor spektakel\, en dit jaar belooft het extra spannend te worden. Samen kijken maakt het leuker\, spannender en vooral gezelliger.
URL:https://cafetake5.nl/event/live-formule-1-gp-japan-kijken/
ATTACH;FMTTYPE=image/jpeg:https://cafetake5.nl/wp-content/uploads/2025/03/F1-Take-Five.jpg
END:VEVENT
BEGIN:VEVENT
DTSTART;TZID=Europe/Amsterdam:20261129T170000
DTEND;TZID=Europe/Amsterdam:20261129T170000
DTSTAMP:20260422T235842
CREATED:20260207T142952Z
LAST-MODIFIED:20260207T142952Z
UID:1438-1795971600-1795971600@cafetake5.nl
SUMMARY:Live Formule 1 GP Qatar kijken
DESCRIPTION:Kom gezellig Formule 1 live kijken bij Take Five! Iedere race staat garant voor spektakel\, en dit jaar belooft het extra spannend te worden. Samen kijken maakt het leuker\, spannender en vooral gezelliger.
URL:https://cafetake5.nl/event/live-formule-1-gp-qatar-kijken-2/
ATTACH;FMTTYPE=image/jpeg:https://cafetake5.nl/wp-content/uploads/2025/03/F1-Take-Five.jpg
END:VEVENT
BEGIN:VEVENT
DTSTART;TZID=Europe/Amsterdam:20261206T140000
DTEND;TZID=Europe/Amsterdam:20261206T140000
DTSTAMP:20260422T235842
CREATED:20260207T143144Z
LAST-MODIFIED:20260207T143144Z
UID:1440-1796565600-1796565600@cafetake5.nl
SUMMARY:Live Formule 1 GP Abu Dhabi kijken
DESCRIPTION:Kom gezellig Formule 1 live kijken bij Take Five! Iedere race staat garant voor spektakel\, en dit jaar belooft het extra spannend te worden. Samen kijken maakt het leuker\, spannender en vooral gezelliger.
URL:https://cafetake5.nl/event/live-formule-1-gp-abu-dhabi-kijken-2/
ATTACH;FMTTYPE=image/jpeg:https://cafetake5.nl/wp-content/uploads/2025/03/F1-Take-Five.jpg
END:VEVENT
END:VCALENDAR