BEGIN:VCALENDAR
VERSION:2.0
PRODID:-//Café Take Five - ECPv6.15.20//NONSGML v1.0//EN
CALSCALE:GREGORIAN
METHOD:PUBLISH
X-ORIGINAL-URL:https://cafetake5.nl
X-WR-CALDESC:Evenementen voor Café Take Five
REFRESH-INTERVAL;VALUE=DURATION:PT1H
X-Robots-Tag:noindex
X-PUBLISHED-TTL:PT1H
BEGIN:VTIMEZONE
TZID:Europe/Amsterdam
BEGIN:DAYLIGHT
TZOFFSETFROM:+0100
TZOFFSETTO:+0200
TZNAME:CEST
DTSTART:20250330T010000
END:DAYLIGHT
BEGIN:STANDARD
TZOFFSETFROM:+0200
TZOFFSETTO:+0100
TZNAME:CET
DTSTART:20251026T010000
END:STANDARD
BEGIN:DAYLIGHT
TZOFFSETFROM:+0100
TZOFFSETTO:+0200
TZNAME:CEST
DTSTART:20260329T010000
END:DAYLIGHT
BEGIN:STANDARD
TZOFFSETFROM:+0200
TZOFFSETTO:+0100
TZNAME:CET
DTSTART:20261025T010000
END:STANDARD
BEGIN:DAYLIGHT
TZOFFSETFROM:+0100
TZOFFSETTO:+0200
TZNAME:CEST
DTSTART:20270328T010000
END:DAYLIGHT
BEGIN:STANDARD
TZOFFSETFROM:+0200
TZOFFSETTO:+0100
TZNAME:CET
DTSTART:20271031T010000
END:STANDARD
END:VTIMEZONE
BEGIN:VEVENT
DTSTART;TZID=Europe/Amsterdam:20260502T213000
DTEND;TZID=Europe/Amsterdam:20260502T213000
DTSTAMP:20260422T144625
CREATED:20260121T143434Z
LAST-MODIFIED:20260121T143509Z
UID:1383-1777757400-1777757400@cafetake5.nl
SUMMARY:Jankity
DESCRIPTION:Lekkere semi-akoestische rockmuziek\, heerlijk om naar te luisteren.
URL:https://cafetake5.nl/event/jankity/
ATTACH;FMTTYPE=image/jpeg:https://cafetake5.nl/wp-content/uploads/2026/01/Jankity.jpg
END:VEVENT
BEGIN:VEVENT
DTSTART;TZID=Europe/Amsterdam:20260503T220000
DTEND;TZID=Europe/Amsterdam:20260503T220000
DTSTAMP:20260422T144625
CREATED:20250320T114418Z
LAST-MODIFIED:20260207T140401Z
UID:794-1777845600-1777845600@cafetake5.nl
SUMMARY:Live Formule 1 GP Miami kijken
DESCRIPTION:Kom gezellig Formule 1 live kijken bij Take Five! Iedere race staat garant voor spektakel\, en dit jaar belooft het extra spannend te worden. Samen kijken maakt het leuker\, spannender en vooral gezelliger.
URL:https://cafetake5.nl/event/live-formule-1-gp-verenigde-staten-kijken/
ATTACH;FMTTYPE=image/jpeg:https://cafetake5.nl/wp-content/uploads/2025/03/F1-Take-Five.jpg
END:VEVENT
BEGIN:VEVENT
DTSTART;TZID=Europe/Amsterdam:20260510T170000
DTEND;TZID=Europe/Amsterdam:20260510T170000
DTSTAMP:20260422T144625
CREATED:20260417T064418Z
LAST-MODIFIED:20260417T064418Z
UID:1473-1778432400-1778432400@cafetake5.nl
SUMMARY:Burkstone
DESCRIPTION:Eigen werk van Sef en Rob op elektrische bass en akoestische gitaar met 2-stemmige zang. Dat wordt genieten op de zondagmiddag.
URL:https://cafetake5.nl/event/burkstone/
ATTACH;FMTTYPE=image/jpeg:https://cafetake5.nl/wp-content/uploads/2026/04/burkstone.jpg
END:VEVENT
BEGIN:VEVENT
DTSTART;TZID=Europe/Amsterdam:20260517T170000
DTEND;TZID=Europe/Amsterdam:20260517T170000
DTSTAMP:20260422T144625
CREATED:20260417T065036Z
LAST-MODIFIED:20260417T065036Z
UID:1481-1779037200-1779037200@cafetake5.nl
SUMMARY:Mitch Menzo
DESCRIPTION:Mitch Menzo\, dat is een jonge pop-rock artiest die elke vorm van negatieve energie omzet in pure drive to success. “Up next” is geen vraag meer het is de volgende stap.\n \nZijn muziek is herkenbare en kwetsbare pop-rock: nummers over het leven\, de liefde en alles daartussen. \n \nZijn debuut album “bittersweet frictions” genomineerd voor beste album – pop in Limburg! En met zijn nummer “de Rembrandtstraat” is hij in de voorronde van Kunstbende 2026 als 2de geëindigd! Zijn solo show in de muziekgieterij wist hij binnen 24 uur op 16 jarige leeftijd uit te verkopen.
URL:https://cafetake5.nl/event/mitch-menzo/
ATTACH;FMTTYPE=image/jpeg:https://cafetake5.nl/wp-content/uploads/2026/04/mitch-menzo.jpg
END:VEVENT
BEGIN:VEVENT
DTSTART;TZID=Europe/Amsterdam:20260523T210000
DTEND;TZID=Europe/Amsterdam:20260523T210000
DTSTAMP:20260422T144625
CREATED:20260417T065210Z
LAST-MODIFIED:20260417T065210Z
UID:1485-1779570000-1779570000@cafetake5.nl
SUMMARY:Niels Bonten
DESCRIPTION:Eén mix van rustige en up- tempo countrymuziek met blues/ rock invloeden. Het onlangs uitgebrachte album wandering scoort hoge ogen en hun bij Take Five opgenomen video clip zal wellicht te zien zijn.
URL:https://cafetake5.nl/event/niels-bonten/
ATTACH;FMTTYPE=image/jpeg:https://cafetake5.nl/wp-content/uploads/2026/04/niels-bonten.jpg
END:VEVENT
BEGIN:VEVENT
DTSTART;TZID=Europe/Amsterdam:20260524T220000
DTEND;TZID=Europe/Amsterdam:20260524T220000
DTSTAMP:20260422T144625
CREATED:20250320T114235Z
LAST-MODIFIED:20260207T140459Z
UID:792-1779660000-1779660000@cafetake5.nl
SUMMARY:Live Formule 1 GP Canada kijken
DESCRIPTION:Kom gezellig Formule 1 live kijken bij Take Five! Iedere race staat garant voor spektakel\, en dit jaar belooft het extra spannend te worden. Samen kijken maakt het leuker\, spannender en vooral gezelliger.
URL:https://cafetake5.nl/event/live-formule-1-gp-singapore-kijken/
ATTACH;FMTTYPE=image/jpeg:https://cafetake5.nl/wp-content/uploads/2025/03/F1-Take-Five.jpg
END:VEVENT
END:VCALENDAR